BEGIN:VCALENDAR
VERSION:2.0
PRODID:Imitheme.com 
BEGIN:VEVENT
UID:20260419T1309251139480412
DTSTAMP;TZID=UTC:2026-04-19 13:09:25
DTSTART;TZID=America/Los_Angeles:20260419T130925
DTEND;TZID=America/Los_Angeles:20260419T130925
SUMMARY:Honors Service (junior high students)
LOCATION:
DESCRIPTION:
URL:https://templechristianbahamas.com/eventer/honors-service-junior-high-students-4/
END:VEVENT
END:VCALENDAR
