BEGIN:VCALENDAR
VERSION:2.0
PRODID:Imitheme.com 
BEGIN:VEVENT
UID:20260419T1719502120866726
DTSTAMP;TZID=UTC:2026-04-19 17:19:50
DTSTART;TZID=America/Los_Angeles:20260419T171950
DTEND;TZID=America/Los_Angeles:20260419T171950
SUMMARY:Honors Service (senior high students)
LOCATION:
DESCRIPTION:
URL:https://templechristianbahamas.com/eventer/honors-service-senior-high-students-4/
END:VEVENT
END:VCALENDAR
