BEGIN:VCALENDAR
VERSION:2.0
PRODID:Imitheme.com 
BEGIN:VEVENT
UID:20260419T1228591327261601
DTSTAMP;TZID=UTC:2026-04-19 12:28:59
DTSTART;TZID=America/Los_Angeles:20260419T122859
DTEND;TZID=America/Los_Angeles:20260419T122859
SUMMARY:Mid-term progress reports issued
LOCATION:
DESCRIPTION:
URL:https://templechristianbahamas.com/eventer/mid-term-progress-reports-issued-5/
END:VEVENT
END:VCALENDAR
