BEGIN:VCALENDAR
VERSION:2.0
PRODID:Imitheme.com 
BEGIN:VEVENT
UID:20260421T145815621274001
DTSTAMP;TZID=UTC:2026-04-21 14:58:15
DTSTART;TZID=America/Los_Angeles:20260421T145815
DTEND;TZID=America/Los_Angeles:20260421T145815
SUMMARY:Faculty/Prayer meeting
LOCATION:
DESCRIPTION:
URL:https://templechristianbahamas.com/eventer/faculty-prayer-meeting-17/
END:VEVENT
END:VCALENDAR
