BEGIN:VCALENDAR
VERSION:2.0
PRODID:Imitheme.com 
BEGIN:VEVENT
UID:20260419T214956344377463
DTSTAMP;TZID=UTC:2026-04-19 21:49:56
DTSTART;TZID=America/Los_Angeles:20260419T214956
DTEND;TZID=America/Los_Angeles:20260419T214956
SUMMARY:Registration for cadets
LOCATION:
DESCRIPTION:
URL:https://templechristianbahamas.com/eventer/registration-for-cadets-3/
END:VEVENT
END:VCALENDAR
