BEGIN:VCALENDAR
VERSION:2.0
PRODID:Imitheme.com 
BEGIN:VEVENT
UID:20260424T002419830047139
DTSTAMP;TZID=UTC:2026-04-24 00:24:19
DTSTART;TZID=America/Los_Angeles:20260424T002419
DTEND;TZID=America/Los_Angeles:20260424T002419
SUMMARY:Combined faculty meeting
LOCATION:
DESCRIPTION:
URL:https://templechristianbahamas.com/eventer/combined-faculty-meeting-10/
END:VEVENT
END:VCALENDAR
