BEGIN:VCALENDAR
VERSION:2.0
PRODID:Imitheme.com 
BEGIN:VEVENT
UID:20260421T213053789548794
DTSTAMP;TZID=UTC:2026-04-21 21:30:53
DTSTART;TZID=America/Los_Angeles:20260421T213053
DTEND;TZID=America/Los_Angeles:20260421T213053
SUMMARY:Combined faculty meeting
LOCATION:
DESCRIPTION:
URL:https://templechristianbahamas.com/eventer/combined-faculty-meeting-5/
END:VEVENT
END:VCALENDAR
