BEGIN:VCALENDAR
VERSION:2.0
PRODID:Imitheme.com 
BEGIN:VEVENT
UID:20260419T122938937997776
DTSTAMP;TZID=UTC:2026-04-19 12:29:38
DTSTART;TZID=America/Los_Angeles:20260419T122938
DTEND;TZID=America/Los_Angeles:20260419T122938
SUMMARY:Grade 6 elective sheets issued
LOCATION:
DESCRIPTION:
URL:https://templechristianbahamas.com/eventer/grade-6-elective-sheets-issued-2/
END:VEVENT
END:VCALENDAR
