BEGIN:VCALENDAR
VERSION:2.0
PRODID:Imitheme.com 
BEGIN:VEVENT
UID:20260421T1321161617299115
DTSTAMP;TZID=UTC:2026-04-21 13:21:16
DTSTART;TZID=America/Los_Angeles:20260421T132116
DTEND;TZID=America/Los_Angeles:20260421T132116
SUMMARY:Elementary Teachers’ work days (no students) - 17th
LOCATION:
DESCRIPTION:
URL:https://templechristianbahamas.com/eventer/elementary-teachers-work-days-no-students-17th/
END:VEVENT
END:VCALENDAR
