BEGIN:VCALENDAR
VERSION:2.0
PRODID:Imitheme.com 
BEGIN:VEVENT
UID:20260421T1303491947276850
DTSTAMP;TZID=UTC:2026-04-21 13:03:49
DTSTART;TZID=America/Los_Angeles:20260421T130349
DTEND;TZID=America/Los_Angeles:20260421T130349
SUMMARY:No school for preschool (K3-K4),Parties/field trips Gr.1 – 5 (last day for students)
LOCATION:
DESCRIPTION:
URL:https://templechristianbahamas.com/eventer/no-school-for-preschool-k3-k4parties-field-trips-gr-1-5-last-day-for-students/
END:VEVENT
END:VCALENDAR
