BEGIN:VCALENDAR
VERSION:2.0
PRODID:Imitheme.com 
BEGIN:VEVENT
UID:20260421T144947582567105
DTSTAMP;TZID=UTC:2026-04-21 14:49:47
DTSTART;TZID=America/Los_Angeles:20260421T144947
DTEND;TZID=America/Los_Angeles:20260421T144947
SUMMARY:P.T.F. Fun Day
LOCATION:
DESCRIPTION:
URL:https://templechristianbahamas.com/eventer/p-t-f-fun-day/
END:VEVENT
END:VCALENDAR
