BEGIN:VCALENDAR
VERSION:2.0
PRODID:Imitheme.com 
BEGIN:VEVENT
UID:20260421T13354761385946
DTSTAMP;TZID=UTC:2026-04-21 13:35:47
DTSTART;TZID=America/Los_Angeles:20260421T133547
DTEND;TZID=America/Los_Angeles:20260421T133547
SUMMARY:Grandparent’s Day
LOCATION:
DESCRIPTION:
URL:https://templechristianbahamas.com/eventer/grandparents-day/
END:VEVENT
END:VCALENDAR
