BEGIN:VCALENDAR
VERSION:2.0
PRODID:Imitheme.com 
BEGIN:VEVENT
UID:20260421T213710285943747
DTSTAMP;TZID=UTC:2026-04-21 21:37:10
DTSTART;TZID=America/Los_Angeles:20260421T213710
DTEND;TZID=America/Los_Angeles:20260421T213710
SUMMARY:K3 – K4 party day (last day for students)
LOCATION:
DESCRIPTION:
URL:https://templechristianbahamas.com/eventer/k3-k4-party-day-last-day-for-students/
END:VEVENT
END:VCALENDAR
