BEGIN:VCALENDAR
VERSION:2.0
PRODID:Imitheme.com
BEGIN:VEVENT
UID:20260421T130333-1166966739
DTSTAMP;TZID=UTC:1776776613
DTSTART;TZID=America/Los_Angeles:20260421T130333
DTEND;TZID=America/Los_Angeles:20260421T130333
SUMMARY:End of Term I
LOCATION:
DESCRIPTION: https://templechristianbahamas.com/eventer/end-of-term-i/
URL:https://templechristianbahamas.com/eventer/end-of-term-i/
END:VEVENT
END:VCALENDAR
